BEGIN:VCALENDAR
VERSION:2.0
PRODID:-//WP EVENT Manager Ical//NONSGML Events//EN
CALSCALE:GREGORIAN
BEGIN:VTIMEZONE
TZID:Asia/Kolkata
BEGIN:STANDARD
DTSTART:19700101T000000
TZOFFSETFROM:+0530
TZOFFSETTO:+0530
END:STANDARD
END:VTIMEZONE
BEGIN:VEVENT
UID:69e90236905ba@plactivity.com
DTSTAMP:20260422T171534Z
DTSTART;TZID=Asia/Kolkata:20251004T100000
DTEND;TZID=Asia/Kolkata:20260331T190000
LOCATION:Online
SUMMARY:Advanced Fabric Painting Workshop
DESCRIPTION:✨ Transform plain fabrics into timeless pieces of art! ✨Join our Advanced Fabric Painting Workshop and learn how to paint stunning artworks on fabric with expert guidance. Whether you’re a hobbyist or looking to upgrade your skills, this course will take you step-by-step through everything from design layout to professional shading techniques.📅 Course Schedule:Duration: 3 Months = 24 Sessions (1 Hour Each)Weekend Batches: Classes every Saturday &amp; Sunday (perfect for working professionals and students).Timing Slots: Students can select their preferred 1-hour slot anytime between 10:00 AM and 7:00 PMMode: Online: Live Interactive Sessions🖌️ What you’ll learn:Step-by-step guidance to paint on fabric with confidence.Professional techniques for fabric painting and colour blendingDrawing &amp; shading skills on fabric to achieve depth and realismHow to create intricate, traditional artworks like Shreenathji, Ganesha, Gautama Buddha and moreTips for selecting fabrics, preparing surfaces, and finishing your artwork 🛠 Materials Needed Participants will need to arrange the following materials before the workshop:Cotton cloth (white colour)Embroidery hoop ringBrown colour pencilAcrylic coloursBrushesBowl (for water/colours)Cloth / tissue paper3D outliner etc.&nbsp;
END:VEVENT
END:VCALENDAR