BEGIN:VCALENDAR
VERSION:2.0
PRODID:-//WP EVENT Manager Ical//NONSGML Events//EN
CALSCALE:GREGORIAN
BEGIN:VTIMEZONE
TZID:Asia/Kolkata
BEGIN:STANDARD
DTSTART:19700101T000000
TZOFFSETFROM:+0530
TZOFFSETTO:+0530
END:STANDARD
END:VTIMEZONE
BEGIN:VEVENT
UID:69e8c9615203e@plactivity.com
DTSTAMP:20260422T131305Z
DTSTART;TZID=Asia/Kolkata:20250912T083000
DTEND;TZID=Asia/Kolkata:20270101T220000
LOCATION:Online
SUMMARY:Interactive Online Learning for Kids: OwlMinds Classes for Ages 5-16
DESCRIPTION:At OwlMinds, we believe that learning should be fun, engaging, and tailored to every child’s unique needs. Our online classes for kids aged 5-16 are designed to make learning an exciting adventure! Whether your child is exploring new subjects or looking to sharpen their skills, our expert instructors provide personalized lessons that are both educational and enjoyable.With a variety of courses in subjects like math, science, language arts, coding, creative writing, and more, OwlMinds offers an interactive online learning experience where your child can actively participate, ask questions, and collaborate with classmates in real-time. Our classes are perfect for children who thrive in a supportive, virtual classroom that fosters curiosity, creativity, and growth.Each class is designed to be fun and hands-on, combining live lessons with exciting activities such as games, quizzes, and projects that keep kids engaged. Plus, with flexible schedules, your child can learn at their own pace, without any pressure.Key Features:Age-appropriate classes for kids aged 5-16Interactive &amp; fun lessons that make learning enjoyableExpert instructors who make complex topics easy to understandLive sessions with real-time Q&amp;A and group activitiesPersonalized learning tailored to each child’s skill level and interestsFlexible schedules to fit your child’s routineWhat to Expect:Math, Science, Coding, Language Arts, and more — a variety of subjects to keep your child excited and engaged.Hands-on learning with fun assignments, quizzes, and creative challenges.Safe and supportive environment where kids feel comfortable to learn and ask questions.Parental guidance for younger children (ages 5-8) to ensure a smooth online experience.How It Works:Registration is simple—just choose a class time that fits your schedule.Each class lasts around 1 hour and includes live instruction, interactive activities, and Q&amp;A time.Materials will be sent ahead of time, so your child will be ready to go!Who Should Attend:Kids aged 5-16 who are eager to explore new subjects or need additional support in their current studies.Ideal for children who enjoy interactive learning and want to develop their skills in a fun and exciting way.Join us today and give your child the gift of learning with OwlMinds!
END:VEVENT
END:VCALENDAR