BEGIN:VCALENDAR
VERSION:2.0
PRODID:-//WP EVENT Manager Ical//NONSGML Events//EN
CALSCALE:GREGORIAN
BEGIN:VTIMEZONE
TZID:Asia/Kolkata
BEGIN:STANDARD
DTSTART:19700101T000000
TZOFFSETFROM:+0530
TZOFFSETTO:+0530
END:STANDARD
END:VTIMEZONE
BEGIN:VEVENT
UID:69e90283c29a3@plactivity.com
DTSTAMP:20260422T171651Z
DTSTART;TZID=Asia/Kolkata:20250704T163000
DTEND;TZID=Asia/Kolkata:20250704T183000
LOCATION:Lemon Tree Premier, Jaipur, Nirwan Marg, behind Inox Cinema, Sindhi Colony, Bani Park, Jaipur, Rajasthan, India
SUMMARY:Luxury Gift Hampers Workshop
DESCRIPTION:Craft Elegance with Your Own Hands! 🌸Join this exclusive Luxury Gift Hamper Workshop and learn the art of creating stunning, personalized hampers perfect for weddings, events, festivals, or your creative business! Dive into premium packaging techniques and floral décor styling from experts.📅 Date: 4th July 2025🕑 Time: 2:00 PM – 6:30 PM💰 Fee: ₹5000 (Includes all materials + Hi-tea/Coffee)📦 Workshop Highlights:Waterfall &amp; standing flower arrangementsHamper jacketing &amp; draping techniquesBasket &amp; platter décor ideasColor themes, backdrop styling &amp; open box setupsElegant presentation for premium hampers✨ Limited seats! Book now and turn your passion into perfection!
END:VEVENT
END:VCALENDAR