BEGIN:VCALENDAR
VERSION:2.0
PRODID:-//WP EVENT Manager Ical//NONSGML Events//EN
CALSCALE:GREGORIAN
BEGIN:VTIMEZONE
TZID:Asia/Kolkata
BEGIN:STANDARD
DTSTART:19700101T000000
TZOFFSETFROM:+0530
TZOFFSETTO:+0530
END:STANDARD
END:VTIMEZONE
BEGIN:VEVENT
UID:69e8e569ba715@plactivity.com
DTSTAMP:20260422T151241Z
DTSTART;TZID=Asia/Kolkata:20251119T100000
DTEND;TZID=Asia/Kolkata:20260331T190000
LOCATION:Online
SUMMARY:Spelling Bee Online Mastery Course
DESCRIPTION:Your child could be the next Spelling Bee Champion; all they need is the right training!Help your child master spelling, build a strong vocabulary, and develop the confidence to excel in real spelling bee competitions, all from the comfort of home!This online program is designed to strengthen language skills, boost competitive confidence, and make learning engaging through fun activities and expert guidance.✅ What Kids Will LearnStrengthen spelling and vocabulary.Improve pronunciation and focus.Boost confidence for competitions.Build teamwork and public-speaking skills.⭐ Why Join This Course?Expert-led training designed for real spelling bee success.Receive a course completion certificate.Build a solid foundation for real spelling bee contests.Convenient online learning from home.Flexible batch timings suitable for all schedules.Class TimingsChoose a batch that fits your schedule:Morning Batch: 10:00–11:00 AM (Saturday &amp; Sunday)Noon Batch: 2:00–3:00 PM (Tuesday, Thursday &amp; Friday)Evening Batch: 5:00–6:00 PM (Tuesday &amp; Thursday)📚 Learning Materials &amp; Support• Full soft copy of all study materials provided• Worksheet after every class (classwork + homework)• Regular tests scheduled after a few classes to track progress• Personal feedback after every test🎯 Learn, Excel &amp; Get CertifiedA structured spelling bee preparation course designed to help your child shine.Enroll now and let your child begin their journey to becoming a spelling champion &#8211; right from your couch.
END:VEVENT
END:VCALENDAR